BEGIN:VCALENDAR
VERSION:2.0
PRODID:-//Black Doll Exhibit  - ECPv6.15.20//NONSGML v1.0//EN
CALSCALE:GREGORIAN
METHOD:PUBLISH
X-ORIGINAL-URL:https://blackdollexhibitbuffalo.com
X-WR-CALDESC:Events for Black Doll Exhibit 
REFRESH-INTERVAL;VALUE=DURATION:PT1H
X-Robots-Tag:noindex
X-PUBLISHED-TTL:PT1H
BEGIN:VTIMEZONE
TZID:UTC
BEGIN:STANDARD
TZOFFSETFROM:+0000
TZOFFSETTO:+0000
TZNAME:UTC
DTSTART:20240101T000000
END:STANDARD
END:VTIMEZONE
BEGIN:VEVENT
DTSTART;VALUE=DATE:20260207
DTEND;VALUE=DATE:20260301
DTSTAMP:20260422T120312
CREATED:20260122T200608Z
LAST-MODIFIED:20260122T200608Z
UID:338-1770422400-1772323199@blackdollexhibitbuffalo.com
SUMMARY:7th Annual Black Doll Exhibit
DESCRIPTION:
URL:https://blackdollexhibitbuffalo.com/event/7th-annual-black-doll-exhibit/
END:VEVENT
BEGIN:VEVENT
DTSTART;VALUE=DATE:20260202
DTEND;VALUE=DATE:20260203
DTSTAMP:20260422T120312
CREATED:20250924T032421Z
LAST-MODIFIED:20250925T034127Z
UID:317-1769990400-1770076799@blackdollexhibitbuffalo.com
SUMMARY:Lockport City Schools
DESCRIPTION:
URL:https://blackdollexhibitbuffalo.com/event/lockport-city-schools-2/
LOCATION:Lockport City Schools\, 130 Beattie Ave\, Lockport\, NY\, 14094\, United States
END:VEVENT
BEGIN:VEVENT
DTSTART;TZID=UTC:20250322T090000
DTEND;TZID=UTC:20250322T120000
DTSTAMP:20260422T120312
CREATED:20250312T180058Z
LAST-MODIFIED:20250312T180230Z
UID:312-1742634000-1742644800@blackdollexhibitbuffalo.com
SUMMARY:Saturday Academy Madness
DESCRIPTION:
URL:https://blackdollexhibitbuffalo.com/event/saturday-academy-madness/
LOCATION:Harvey Austin School\, 1405 Sycammore Street\, Buffalo\, NY
END:VEVENT
BEGIN:VEVENT
DTSTART;TZID=UTC:20250222T110000
DTEND;TZID=UTC:20250222T140000
DTSTAMP:20260422T120312
CREATED:20250113T195935Z
LAST-MODIFIED:20250121T165010Z
UID:229-1740222000-1740232800@blackdollexhibitbuffalo.com
SUMMARY:Central Library Auditorium
DESCRIPTION:
URL:https://blackdollexhibitbuffalo.com/event/central-library-auditorium/
END:VEVENT
BEGIN:VEVENT
DTSTART;TZID=UTC:20250219T180000
DTEND;TZID=UTC:20250219T193000
DTSTAMP:20260422T120312
CREATED:20250113T195822Z
LAST-MODIFIED:20250113T195822Z
UID:227-1739988000-1739993400@blackdollexhibitbuffalo.com
SUMMARY:East Clinton Library
DESCRIPTION:
URL:https://blackdollexhibitbuffalo.com/event/east-clinton-library/
ATTACH;FMTTYPE=image/jpeg:https://blackdollexhibitbuffalo.com/wp-content/uploads/2025/01/Colorful-Bright-Scrapbook-Family-Playgroup-Flyer-1.jpg
END:VEVENT
BEGIN:VEVENT
DTSTART;TZID=UTC:20250213T083000
DTEND;TZID=UTC:20250213T110000
DTSTAMP:20260422T120312
CREATED:20250113T195425Z
LAST-MODIFIED:20250113T195425Z
UID:220-1739435400-1739444400@blackdollexhibitbuffalo.com
SUMMARY:Lockport City Schools
DESCRIPTION:
URL:https://blackdollexhibitbuffalo.com/event/lockport-city-schools/
ATTACH;FMTTYPE=image/jpeg:https://blackdollexhibitbuffalo.com/wp-content/uploads/2025/01/Colorful-Bright-Scrapbook-Family-Playgroup-Flyer-1.jpg
END:VEVENT
BEGIN:VEVENT
DTSTART;TZID=UTC:20250208T110000
DTEND;TZID=UTC:20250208T130000
DTSTAMP:20260422T120312
CREATED:20250113T195115Z
LAST-MODIFIED:20250113T195126Z
UID:213-1739012400-1739019600@blackdollexhibitbuffalo.com
SUMMARY:North Park Library
DESCRIPTION:
URL:https://blackdollexhibitbuffalo.com/event/213/
LOCATION:North Park Library\, 975 Hertel Ave.\, Buffalo\, NY\, 14201
ATTACH;FMTTYPE=image/jpeg:https://blackdollexhibitbuffalo.com/wp-content/uploads/2025/01/Colorful-Bright-Scrapbook-Family-Playgroup-Flyer-1.jpg
END:VEVENT
END:VCALENDAR